BEGIN:VCALENDAR
VERSION:2.0
PRODID:-//Sunrise Yoga Studio - ECPv6.15.14//NONSGML v1.0//EN
CALSCALE:GREGORIAN
METHOD:PUBLISH
X-ORIGINAL-URL:https://sunriseyogastudio.com
X-WR-CALDESC:Events for Sunrise Yoga Studio
REFRESH-INTERVAL;VALUE=DURATION:PT1H
X-Robots-Tag:noindex
X-PUBLISHED-TTL:PT1H
BEGIN:VTIMEZONE
TZID:America/New_York
BEGIN:DAYLIGHT
TZOFFSETFROM:-0500
TZOFFSETTO:-0400
TZNAME:EDT
DTSTART:20250309T070000
END:DAYLIGHT
BEGIN:STANDARD
TZOFFSETFROM:-0400
TZOFFSETTO:-0500
TZNAME:EST
DTSTART:20251102T060000
END:STANDARD
BEGIN:DAYLIGHT
TZOFFSETFROM:-0500
TZOFFSETTO:-0400
TZNAME:EDT
DTSTART:20260308T070000
END:DAYLIGHT
BEGIN:STANDARD
TZOFFSETFROM:-0400
TZOFFSETTO:-0500
TZNAME:EST
DTSTART:20261101T060000
END:STANDARD
BEGIN:DAYLIGHT
TZOFFSETFROM:-0500
TZOFFSETTO:-0400
TZNAME:EDT
DTSTART:20270314T070000
END:DAYLIGHT
BEGIN:STANDARD
TZOFFSETFROM:-0400
TZOFFSETTO:-0500
TZNAME:EST
DTSTART:20271107T060000
END:STANDARD
END:VTIMEZONE
BEGIN:VEVENT
DTSTART;TZID=America/New_York:20260417T173000
DTEND;TZID=America/New_York:20260417T190000
DTSTAMP:20260421T134000
CREATED:20260321T121512Z
LAST-MODIFIED:20260321T121513Z
UID:1278-1776447000-1776452400@sunriseyogastudio.com
SUMMARY:Manifest with the New Moon
DESCRIPTION:Join Sabrina Renee Clinard for Manifest with the New Moon\nThe New Moon  is a time for new beginnings.  A  time to set your goals and intentions\,  to manifest. This class will show the effects of the new moon upon our energy and glands. It includes a Kundalini  Kriya for the lymphatic system and a meditation to stimulate the flow of energy.   \nCost – $15 Pay at the door or RSVP by texting “New” + your name to 828-557-5731. \n 
URL:https://sunriseyogastudio.com/event/manifest-with-the-new-moon/
LOCATION:Sunrise Yoga Studio\, 18 Herbert Street\, Hayesville\, NC\, NC\, 28904\, United States
CATEGORIES:Event,In-person
ATTACH;FMTTYPE=image/jpeg:https://sunriseyogastudio.com/wp-content/uploads/NEW_MOON_LANDSCAPE.jpg
ORGANIZER;CN="Sabrina Renee Clinard":MAILTO:clinardsabrina@gmail.com
END:VEVENT
BEGIN:VEVENT
DTSTART;TZID=America/New_York:20260402T150000
DTEND;TZID=America/New_York:20260402T163000
DTSTAMP:20260421T134000
CREATED:20260321T115314Z
LAST-MODIFIED:20260321T115358Z
UID:1275-1775142000-1775147400@sunriseyogastudio.com
SUMMARY:Flower Full Moon Release
DESCRIPTION:Join Sabrina Renee Clinard for Flower Full Moon Release. \nFull moons are for  letting go\, reflection\, consolidating and working on our inner self.  In this special offering\, you will learn how the full moon affects your glands\, energy\, and the tides within  you.  This class will include a warm-up with Kundalini Yoga and breath work\, a  meditation for the full moon to bring peace and  security.   And will end with a celestial communication for blessing our waters.    \nCost – $15 \nPay at the door\, or RSVP by texting “Full “+ your name to 828-557-5731  \n 
URL:https://sunriseyogastudio.com/event/flower-full-moon-release/
LOCATION:NC
CATEGORIES:In-person
ATTACH;FMTTYPE=image/jpeg:https://sunriseyogastudio.com/wp-content/uploads/LANDSCAPE_FULL_MOON_NEWSLETTER-.jpg
ORGANIZER;CN="Sabrina Renee Clinard":MAILTO:clinardsabrina@gmail.com
END:VEVENT
END:VCALENDAR